BEGIN:VCALENDAR
VERSION:2.0
PRODID:-//Kinderyoga Josje - ECPv6.15.20//NONSGML v1.0//EN
CALSCALE:GREGORIAN
METHOD:PUBLISH
X-ORIGINAL-URL:https://kinderyogajosje.nl
X-WR-CALDESC:Evenementen voor Kinderyoga Josje
REFRESH-INTERVAL;VALUE=DURATION:PT1H
X-Robots-Tag:noindex
X-PUBLISHED-TTL:PT1H
BEGIN:VTIMEZONE
TZID:Europe/Amsterdam
BEGIN:DAYLIGHT
TZOFFSETFROM:+0100
TZOFFSETTO:+0200
TZNAME:CEST
DTSTART:20250330T010000
END:DAYLIGHT
BEGIN:STANDARD
TZOFFSETFROM:+0200
TZOFFSETTO:+0100
TZNAME:CET
DTSTART:20251026T010000
END:STANDARD
BEGIN:DAYLIGHT
TZOFFSETFROM:+0100
TZOFFSETTO:+0200
TZNAME:CEST
DTSTART:20260329T010000
END:DAYLIGHT
BEGIN:STANDARD
TZOFFSETFROM:+0200
TZOFFSETTO:+0100
TZNAME:CET
DTSTART:20261025T010000
END:STANDARD
BEGIN:DAYLIGHT
TZOFFSETFROM:+0100
TZOFFSETTO:+0200
TZNAME:CEST
DTSTART:20270328T010000
END:DAYLIGHT
BEGIN:STANDARD
TZOFFSETFROM:+0200
TZOFFSETTO:+0100
TZNAME:CET
DTSTART:20271031T010000
END:STANDARD
END:VTIMEZONE
BEGIN:VEVENT
DTSTART;TZID=Europe/Amsterdam:20260201T100000
DTEND;TZID=Europe/Amsterdam:20260201T105000
DTSTAMP:20260421T200448
CREATED:20260115T120552Z
LAST-MODIFIED:20260115T120555Z
UID:687-1769940000-1769943000@kinderyogajosje.nl
SUMMARY:Ouder- & peuteryoga 1 februari
DESCRIPTION:Aanmelden ouder- & peuteryogales\n\n\n\n\n\nDeze les is voor kinderen vanaf 2 jaar t/m 5 jaar met een volwassenen. \n\n\n\nBegin je zondagochtend met een moment vol aandacht en plezier samen. Tijdens een les waarbij een samen met je kind ontspannen een yogamat deelt. Er wordt spelenderwijs gewerkt aan spieren\, evenwicht\, ademhaling\, concentratie en alle zintuigen worden aangesproken. De les is altijd opgebouwd rond een thema\, boek of verhaal. De ene keer zijn we in het kabouterbos en de andere keer staat de lente centraal.Yogamaten zijn aanwezig en zorg dat je kleren draagt waar je makkelijk in kan bewegen.  \n\n\n\nAfmelden kan tot 17:00 uur de dag voor aanvang. Daarna geld er een betaal verplichting.
URL:https://kinderyogajosje.nl/yogalessen/ouder-peuteryoga-1-februari/
ORGANIZER;CN="Kinderyoga Josje":MAILTO:contact@kinderyogajosje.nl
END:VEVENT
BEGIN:VEVENT
DTSTART;TZID=Europe/Amsterdam:20260201T110000
DTEND;TZID=Europe/Amsterdam:20260201T115000
DTSTAMP:20260421T200448
CREATED:20260115T121800Z
LAST-MODIFIED:20260131T162836Z
UID:703-1769943600-1769946600@kinderyogajosje.nl
SUMMARY:Kinderyogales 1 februari
DESCRIPTION:Aanmelden kinderyogales\n\n\n\n\n\nEen yogales voor kinderen van 7 t/m 10 jaar. \n\n\n\nTijdens de les zal er aandacht zijn voor inspanning en ontspanning. Je leert naar je lichaam en spieren te luisteren\, zodat je weet wat je fijn vindt en wat je nodig hebt. Ook maakt het je lichaam sterk en soepel. Daarnaast hebben we aandacht voor de ademhaling door middel van spelletjes en masseren we elkaar over de kleding heen.  \n\n\n\nIn iedere les zit ook een samenspel verwerkt. De les is altijd opgebouwd rond een thema\, denk daarbij aan vriendschap of zelfvertrouwen. De ene keer gaan we naar de woestijn en de andere keer hebben we het over sterrenbeelden.Yogamaten zijn aanwezig en zorg dat je kleren draagt waar je makkelijk in kan bewegen.  \n\n\n\nAfmelden kan tot 17:00 uur de dag voor aanvang. Daarna geld er een betaal verplichting.
URL:https://kinderyogajosje.nl/yogalessen/kinderyogales-1-februari/
ORGANIZER;CN="Kinderyoga Josje":MAILTO:contact@kinderyogajosje.nl
END:VEVENT
BEGIN:VEVENT
DTSTART;TZID=Europe/Amsterdam:20260201T120000
DTEND;TZID=Europe/Amsterdam:20260201T125000
DTSTAMP:20260421T200448
CREATED:20260115T122733Z
LAST-MODIFIED:20260131T162720Z
UID:715-1769947200-1769950200@kinderyogajosje.nl
SUMMARY:Kleuteryoga 1 februari
DESCRIPTION:Aanmelden kleuteryogales\n\n\n\n\n\nDeze les is voor kinderen van 3 t/m 6 jaar.  \n\n\n\nSamen met de yogabeer ga je op avontuur. Je wisselt inspanning en ontspanning met elkaar af in een les die opgebouwd is rond een thema\, boek of verhaal. De ene keer zijn we in het kabouterbos en de andere keer staat de lente centraal. Er wordt gewerkt aan spieren\, evenwicht\, ademhaling\, concentratie en alle zintuigen worden aangesproken.Yogamaten zijn aanwezig en zorg dat je kleren draagt waar je makkelijk in kan bewegen.  \n\n\n\nAfmelden kan tot 17:00 uur de dag voor aanvang. Daarna geld er een betaal verplichting.
URL:https://kinderyogajosje.nl/yogalessen/kleuteryoga-1-februari/
ORGANIZER;CN="Kinderyoga Josje":MAILTO:contact@kinderyogajosje.nl
END:VEVENT
BEGIN:VEVENT
DTSTART;TZID=Europe/Amsterdam:20260205T083000
DTEND;TZID=Europe/Amsterdam:20260205T093000
DTSTAMP:20260421T200448
CREATED:20260115T130616Z
LAST-MODIFIED:20260204T191120Z
UID:733-1770280200-1770283800@kinderyogajosje.nl
SUMMARY:Ouder- & peuteryoga 5 februari
DESCRIPTION:Aanmelden ouder- & kindyogales\n\n\n\n\n\nDeze les is voor kinderen vanaf 2 jaar t/m 4 jaar met een volwassene. \n\n\n\nBegin je donderdagochtend met een moment vol aandacht en plezier samen. Tijdens een les waarbij je samen met je kind ontspannen een yogamat deelt. Er wordt spelenderwijs gewerkt aan spieren\, evenwicht\, ademhaling\, concentratie en alle zintuigen worden aangesproken.
URL:https://kinderyogajosje.nl/yogalessen/ouder-peuteryoga-5-februari/
CATEGORIES:Ouder- & kindyoga
ORGANIZER;CN="Kinderyoga Josje":MAILTO:contact@kinderyogajosje.nl
END:VEVENT
BEGIN:VEVENT
DTSTART;TZID=Europe/Amsterdam:20260208T100000
DTEND;TZID=Europe/Amsterdam:20260208T105000
DTSTAMP:20260421T200448
CREATED:20260115T121017Z
LAST-MODIFIED:20260201T172051Z
UID:694-1770544800-1770547800@kinderyogajosje.nl
SUMMARY:Ouder- & kindyogales 8 februari
DESCRIPTION:Aanmelden ouder- & kindyogales\n\n\n\n\n\nDeze les is voor kinderen vanaf 2 jaar t/m 5 jaar met een volwassenen. \n\n\n\nBegin je zondagochtend met een moment vol aandacht en plezier samen. Tijdens een les waarbij een samen met je kind ontspannen een yogamat deelt. Er wordt spelenderwijs gewerkt aan spieren\, evenwicht\, ademhaling\, concentratie en alle zintuigen worden aangesproken. De les is altijd opgebouwd rond een thema\, boek of verhaal. De ene keer zijn we in het kabouterbos en de andere keer staat de lente centraal.Yogamaten zijn aanwezig en zorg dat je kleren draagt waar je makkelijk in kan bewegen.  \n\n\n\nAfmelden kan tot 17:00 uur de dag voor aanvang. Daarna geld er een betaal verplichting.
URL:https://kinderyogajosje.nl/yogalessen/ouder-peuteryogales-8-februari/
CATEGORIES:Ouder- & kindyoga
ORGANIZER;CN="Kinderyoga Josje":MAILTO:contact@kinderyogajosje.nl
END:VEVENT
BEGIN:VEVENT
DTSTART;TZID=Europe/Amsterdam:20260208T110000
DTEND;TZID=Europe/Amsterdam:20260208T115000
DTSTAMP:20260421T200448
CREATED:20260115T122115Z
LAST-MODIFIED:20260201T171957Z
UID:706-1770548400-1770551400@kinderyogajosje.nl
SUMMARY:Kinderyogales 8 februari
DESCRIPTION:Aanmelden kinderyogales\n\n\n\n\n\nEen yogales voor kinderen van 7 t/m 10 jaar. \n\n\n\nTijdens de les zal er aandacht zijn voor inspanning en ontspanning. Je leert naar je lichaam en spieren te luisteren\, zodat je weet wat je fijn vindt en wat je nodig hebt. Ook maakt het je lichaam sterk en soepel. Daarnaast hebben we aandacht voor de ademhaling door middel van spelletjes en masseren we elkaar over de kleding heen.  \n\n\n\nIn iedere les zit ook een samenspel verwerkt. De les is altijd opgebouwd rond een thema\, denk daarbij aan vriendschap of zelfvertrouwen. De ene keer gaan we naar de woestijn en de andere keer hebben we het over sterrenbeelden.Yogamaten zijn aanwezig en zorg dat je kleren draagt waar je makkelijk in kan bewegen.  \n\n\n\nAfmelden kan tot 17:00 uur de dag voor aanvang. Daarna geld er een betaal verplichting.
URL:https://kinderyogajosje.nl/yogalessen/kinderyogales-8-februari/
CATEGORIES:kinderyoga
ORGANIZER;CN="Kinderyoga Josje":MAILTO:contact@kinderyogajosje.nl
END:VEVENT
BEGIN:VEVENT
DTSTART;TZID=Europe/Amsterdam:20260208T120000
DTEND;TZID=Europe/Amsterdam:20260208T125000
DTSTAMP:20260421T200448
CREATED:20260115T123025Z
LAST-MODIFIED:20260201T171933Z
UID:719-1770552000-1770555000@kinderyogajosje.nl
SUMMARY:Kleuteryoga 8 februari
DESCRIPTION:Aanmelden kleuteryogales\n\n\n\n\n\nDeze les is voor kinderen van 3 t/m 6 jaar.  \n\n\n\nSamen met de yogabeer ga je op avontuur. Je wisselt inspanning en ontspanning met elkaar af in een les die opgebouwd is rond een thema\, boek of verhaal. De ene keer zijn we in het kabouterbos en de andere keer staat de lente centraal. Er wordt gewerkt aan spieren\, evenwicht\, ademhaling\, concentratie en alle zintuigen worden aangesproken.Yogamaten zijn aanwezig en zorg dat je kleren draagt waar je makkelijk in kan bewegen.  \n\n\n\nAfmelden kan tot 17:00 uur de dag voor aanvang. Daarna geld er een betaal verplichting.
URL:https://kinderyogajosje.nl/yogalessen/kleuteryoga-8-februari/
CATEGORIES:kleuteryoga
ORGANIZER;CN="Kinderyoga Josje":MAILTO:contact@kinderyogajosje.nl
END:VEVENT
BEGIN:VEVENT
DTSTART;TZID=Europe/Amsterdam:20260212T083000
DTEND;TZID=Europe/Amsterdam:20260212T093000
DTSTAMP:20260421T200448
CREATED:20260115T131113Z
LAST-MODIFIED:20260211T170225Z
UID:738-1770885000-1770888600@kinderyogajosje.nl
SUMMARY:Ouder- & kinderyoga 12 februari
DESCRIPTION:Aanmelden ouder- & kinderyogales\n\n\n\n\n\nDeze les is voor kinderen vanaf 2 jaar t/m 4 jaar met een volwassene. \n\n\n\nBegin je donderdagochtend met een moment vol aandacht en plezier samen. Tijdens een les waarbij je samen met je kind ontspannen een yogamat deelt. Er wordt spelenderwijs gewerkt aan spieren\, evenwicht\, ademhaling\, concentratie en alle zintuigen worden aangesproken.
URL:https://kinderyogajosje.nl/yogalessen/ouder-peuteryoga-12-februari/
CATEGORIES:Ouder- & kindyoga
ORGANIZER;CN="Kinderyoga Josje":MAILTO:contact@kinderyogajosje.nl
END:VEVENT
BEGIN:VEVENT
DTSTART;TZID=Europe/Amsterdam:20260219T083000
DTEND;TZID=Europe/Amsterdam:20260219T093000
DTSTAMP:20260421T200448
CREATED:20260115T131746Z
LAST-MODIFIED:20260201T171556Z
UID:744-1771489800-1771493400@kinderyogajosje.nl
SUMMARY:Ouder- & kindyoga 19 februari
DESCRIPTION:Aanmelden ouder- & kindyogales\n\n\n\n\n\nDeze les is voor kinderen vanaf 2 jaar t/m 4 jaar met een volwassene. \n\n\n\nBegin je donderdagochtend met een moment vol aandacht en plezier samen. Tijdens een les waarbij je samen met je kind ontspannen een yogamat deelt. Er wordt spelenderwijs gewerkt aan spieren\, evenwicht\, ademhaling\, concentratie en alle zintuigen worden aangesproken.
URL:https://kinderyogajosje.nl/yogalessen/ouder-peuteryoga-19-februari/
CATEGORIES:Ouder- & kindyoga
ORGANIZER;CN="Kinderyoga Josje":MAILTO:contact@kinderyogajosje.nl
END:VEVENT
BEGIN:VEVENT
DTSTART;TZID=Europe/Amsterdam:20260222T100000
DTEND;TZID=Europe/Amsterdam:20260222T105000
DTSTAMP:20260421T200448
CREATED:20260115T121418Z
LAST-MODIFIED:20260201T171509Z
UID:699-1771754400-1771757400@kinderyogajosje.nl
SUMMARY:Ouder- & kindyoga 22 februari
DESCRIPTION:Aanmelden ouder- & kindyogales\n\n\n\n\n\nDeze les is voor kinderen vanaf 2 jaar t/m 7 jaar met een volwassenen. \n\n\n\nBegin je zondagochtend met een moment vol aandacht en plezier samen. Tijdens een les waarbij een samen met je kind ontspannen een yogamat deelt. Er wordt spelenderwijs gewerkt aan spieren\, evenwicht\, ademhaling\, concentratie en alle zintuigen worden aangesproken. De les is altijd opgebouwd rond een thema\, boek of verhaal. De ene keer zijn we in het kabouterbos en de andere keer staat de lente centraal.Yogamaten zijn aanwezig en zorg dat je kleren draagt waar je makkelijk in kan bewegen.  \n\n\n\nAfmelden kan tot 17:00 uur de dag voor aanvang. Daarna geld er een betaal verplichting.
URL:https://kinderyogajosje.nl/yogalessen/ouder-peuteryoga-22-februari/
CATEGORIES:Ouder- & kindyoga
ORGANIZER;CN="Kinderyoga Josje":MAILTO:contact@kinderyogajosje.nl
END:VEVENT
BEGIN:VEVENT
DTSTART;TZID=Europe/Amsterdam:20260222T110000
DTEND;TZID=Europe/Amsterdam:20260222T115000
DTSTAMP:20260421T200448
CREATED:20260115T122451Z
LAST-MODIFIED:20260201T171354Z
UID:712-1771758000-1771761000@kinderyogajosje.nl
SUMMARY:Kinderyoga 22 februari
DESCRIPTION:Aanmelden kinderyogales\n\n\n\n\n\nEen yogales voor kinderen van 7 t/m 10 jaar. \n\n\n\nTijdens de les zal er aandacht zijn voor inspanning en ontspanning. Je leert naar je lichaam en spieren te luisteren\, zodat je weet wat je fijn vindt en wat je nodig hebt. Ook maakt het je lichaam sterk en soepel. Daarnaast hebben we aandacht voor de ademhaling door middel van spelletjes en masseren we elkaar over de kleding heen.  \n\n\n\nIn iedere les zit ook een samenspel verwerkt. De les is altijd opgebouwd rond een thema\, denk daarbij aan vriendschap of zelfvertrouwen. De ene keer gaan we naar de woestijn en de andere keer hebben we het over sterrenbeelden.Yogamaten zijn aanwezig en zorg dat je kleren draagt waar je makkelijk in kan bewegen.  \n\n\n\nAfmelden kan tot 17:00 uur de dag voor aanvang. Daarna geld er een betaal verplichting.
URL:https://kinderyogajosje.nl/yogalessen/kinderyoga-22-februari/
CATEGORIES:kinderyoga
ORGANIZER;CN="Kinderyoga Josje":MAILTO:contact@kinderyogajosje.nl
END:VEVENT
BEGIN:VEVENT
DTSTART;TZID=Europe/Amsterdam:20260222T120000
DTEND;TZID=Europe/Amsterdam:20260222T125000
DTSTAMP:20260421T200448
CREATED:20260115T123306Z
LAST-MODIFIED:20260221T172333Z
UID:723-1771761600-1771764600@kinderyogajosje.nl
SUMMARY:Kleuteryoga 22 februari
DESCRIPTION:Aanmelden kleuteryogales\n\n\n\n\n\nDeze les is voor kinderen van 3 t/m 6 jaar.  \n\n\n\nSamen met de yogabeer ga je op avontuur. Je wisselt inspanning en ontspanning met elkaar af in een les die opgebouwd is rond een thema\, boek of verhaal. De ene keer zijn we in het kabouterbos en de andere keer staat de lente centraal. Er wordt gewerkt aan spieren\, evenwicht\, ademhaling\, concentratie en alle zintuigen worden aangesproken.Yogamaten zijn aanwezig en zorg dat je kleren draagt waar je makkelijk in kan bewegen.  \n\n\n\nAfmelden kan tot 17:00 uur de dag voor aanvang. Daarna geld er een betaal verplichting.
URL:https://kinderyogajosje.nl/yogalessen/kleuteryoga-22-februari/
CATEGORIES:kleuteryoga
ORGANIZER;CN="Kinderyoga Josje":MAILTO:contact@kinderyogajosje.nl
END:VEVENT
BEGIN:VEVENT
DTSTART;TZID=Europe/Amsterdam:20260226T083000
DTEND;TZID=Europe/Amsterdam:20260226T093000
DTSTAMP:20260421T200448
CREATED:20260115T132300Z
LAST-MODIFIED:20260225T173753Z
UID:750-1772094600-1772098200@kinderyogajosje.nl
SUMMARY:Ouder- & kindyoga 26 februari
DESCRIPTION:Aanmelden ouder- & kindyogales\n\n\n\n\n\nDeze les is voor kinderen vanaf 2 jaar t/m 4 jaar met een volwassene. \n\n\n\nBegin je donderdagochtend met een moment vol aandacht en plezier samen. Tijdens een les waarbij je samen met je kind ontspannen een yogamat deelt. Er wordt spelenderwijs gewerkt aan spieren\, evenwicht\, ademhaling\, concentratie en alle zintuigen worden aangesproken.
URL:https://kinderyogajosje.nl/yogalessen/ouder-peutyeryoga-26-februari/
CATEGORIES:Ouder- & kindyoga
ORGANIZER;CN="Kinderyoga Josje":MAILTO:contact@kinderyogajosje.nl
END:VEVENT
END:VCALENDAR