BEGIN:VCALENDAR
VERSION:2.0
PRODID:-//Kinderyoga Josje - ECPv6.15.20//NONSGML v1.0//EN
CALSCALE:GREGORIAN
METHOD:PUBLISH
X-WR-CALNAME:Kinderyoga Josje
X-ORIGINAL-URL:https://kinderyogajosje.nl
X-WR-CALDESC:Evenementen voor Kinderyoga Josje
REFRESH-INTERVAL;VALUE=DURATION:PT1H
X-Robots-Tag:noindex
X-PUBLISHED-TTL:PT1H
BEGIN:VTIMEZONE
TZID:Europe/Amsterdam
BEGIN:DAYLIGHT
TZOFFSETFROM:+0100
TZOFFSETTO:+0200
TZNAME:CEST
DTSTART:20240331T010000
END:DAYLIGHT
BEGIN:STANDARD
TZOFFSETFROM:+0200
TZOFFSETTO:+0100
TZNAME:CET
DTSTART:20241027T010000
END:STANDARD
BEGIN:DAYLIGHT
TZOFFSETFROM:+0100
TZOFFSETTO:+0200
TZNAME:CEST
DTSTART:20250330T010000
END:DAYLIGHT
BEGIN:STANDARD
TZOFFSETFROM:+0200
TZOFFSETTO:+0100
TZNAME:CET
DTSTART:20251026T010000
END:STANDARD
BEGIN:DAYLIGHT
TZOFFSETFROM:+0100
TZOFFSETTO:+0200
TZNAME:CEST
DTSTART:20260329T010000
END:DAYLIGHT
BEGIN:STANDARD
TZOFFSETFROM:+0200
TZOFFSETTO:+0100
TZNAME:CET
DTSTART:20261025T010000
END:STANDARD
END:VTIMEZONE
BEGIN:VEVENT
DTSTART;TZID=Europe/Amsterdam:20251130T120000
DTEND;TZID=Europe/Amsterdam:20251130T125000
DTSTAMP:20260422T025526
CREATED:20251123T172259Z
LAST-MODIFIED:20251126T212300Z
UID:297-1764504000-1764507000@kinderyogajosje.nl
SUMMARY:Kinderyogales
DESCRIPTION:Aanmelden kinderyogales\n\n\n\n	\n		\n			12 april		\n\n					\n				 @ 			\n			\n				11:00			\n		\n									\n					 – 				\n			\n							\n					11:50				\n			\n						 \n\n\n\n\nEen yogales voor kinderen van 7 t/m 10 jaar. \n\n\n\nTijdens de les zal er aandacht zijn voor inspanning en ontspanning. Je leert naar je lichaam en spieren te luisteren\, zodat je weet wat je fijn vindt en wat je nodig hebt. Ook maakt het je lichaam sterk en soepel. Daarnaast hebben we aandacht voor de ademhaling door middel van spelletjes en masseren we elkaar over de kleding heen.  \n\n\n\nIn iedere les zit ook een samenspel verwerkt. De les is altijd opgebouwd rond een thema\, denk daarbij aan vriendschap of zelfvertrouwen. De ene keer gaan we naar de woestijn en de andere keer hebben we het over sterrenbeelden.Yogamaten zijn aanwezig en zorg dat je kleren draagt waar je makkelijk in kan bewegen.  \n\n\n\nAfmelden kan tot 17:00 uur de dag voor aanvang. Daarna geld er een betaal verplichting.  \n\n\n\n\n\n\n\n\n\n\n\n\n\n\n	\n	\n\n	\n					Gegevens		\n	\n	\n\n		\n			\n				Datum:\n				\n					 12 april \n				\n			\n\n			\n				Tijd:\n				\n					\n						11:00 – 11:50											\n				\n			\n\n		\n					\n				Kosten:\n				 €10\,00 \n			\n		\n		\n		Evenement Categorie: kinderyoga\n		\n		\n			\n\n	\n\n	\n					Organisator			\n	\n					\n				\n					Kinderyoga Josje				\n			\n							\n					\n						Telefoon					\n					\n						+31 63 84 05 602					\n				\n								\n					\n						E-mail					\n					\n						contact@kinderyogajosje.nl					\n				\n					\n\n\n	\n\n\n\n\n\n\n\n	\n		\n\n	\n\n\n\n\n	\n\n\n	\n		\n			\n				\n					\n						\n	\n	\n\n						\n							Toevoegen aan kalender						\n						\n	\n\n					\n					\n						\n															\n									\n										Google Calendar									\n								\n															\n									\n										iCalendar									\n								\n															\n									\n										Outlook 365									\n								\n															\n									\n										Outlook Live
URL:https://kinderyogajosje.nl/yogalessen/kinderyogales/
LOCATION:Buurtcentrum Terwijde\, Operettelaan 629\, Utrecht\, 3542 BR\, Netherlands
ORGANIZER;CN="Kinderyoga Josje":MAILTO:contact@kinderyogajosje.nl
END:VEVENT
BEGIN:VEVENT
DTSTART;TZID=Europe/Amsterdam:20251130T110000
DTEND;TZID=Europe/Amsterdam:20251130T115000
DTSTAMP:20260422T025526
CREATED:20251123T163443Z
LAST-MODIFIED:20251127T084858Z
UID:286-1764500400-1764503400@kinderyogajosje.nl
SUMMARY:kleuteryogales
DESCRIPTION:Aanmelden kleuteryogales\n\n\n\n\n\nDeze les is voor kinderen van 3 t/m 6 jaar. \n\n\n\nSamen met de yogabeer ga je op avontuur. Je wisselt inspanning en ontspanning met elkaar af in een les die opgebouwd is rond een thema\, boek of verhaal. De ene keer zijn we in het kabouterbos en de andere keer staat de lente centraal. Er wordt gewerkt aan spieren\, evenwicht\, ademhaling\, concentratie en alle zintuigen worden aangesproken.  \n\n\n\nBegin je zondagochtend vol aandacht en plezier! Ga je mee op avontuur? Laat je het wel even weten als je komt?
URL:https://kinderyogajosje.nl/yogalessen/kleuteryogales/
LOCATION:Buurtcentrum Terwijde\, Operettelaan 629\, Utrecht\, 3542 BR\, Netherlands
ORGANIZER;CN="Kinderyoga Josje":MAILTO:contact@kinderyogajosje.nl
END:VEVENT
BEGIN:VEVENT
DTSTART;TZID=Europe/Amsterdam:20251130T100000
DTEND;TZID=Europe/Amsterdam:20251130T105000
DTSTAMP:20260422T025526
CREATED:20251121T083946Z
LAST-MODIFIED:20251127T084816Z
UID:107-1764496800-1764499800@kinderyogajosje.nl
SUMMARY:Ouder- & kindyogales
DESCRIPTION:Aanmelden ouder- & kindyogales\n\n\n\n	\n		\n			12 april		\n\n					\n				 @ 			\n			\n				11:00			\n		\n									\n					 – 				\n			\n							\n					11:50				\n			\n						 \n\n\n\n\nDeze les is voor kinderen vanaf 2 jaar t/m 7 jaar met een volwassenen. \n\n\n\nBegin je zondagochtend met een moment vol aandacht en plezier samen. Tijdens een les waarbij een samen met je kind ontspannen een yogamat deelt. Er wordt spelenderwijs gewerkt aan spieren\, evenwicht\, ademhaling\, concentratie en alle zintuigen worden aangesproken. De les is altijd opgebouwd rond een thema\, boek of verhaal. De ene keer zijn we in het kabouterbos en de andere keer staat de lente centraal.Yogamaten zijn aanwezig en zorg dat je kleren draagt waar je makkelijk in kan bewegen.  \n\n\n\nAfmelden kan tot 17:00 uur de dag voor aanvang. Daarna geld er een betaal verplichting.  \n\n\n\n\n\n\n\n\n\n\n\n\n\n\n\n	\n	\n\n	\n					Gegevens		\n	\n	\n\n		\n			\n				Datum:\n				\n					 12 april \n				\n			\n\n			\n				Tijd:\n				\n					\n						11:00 – 11:50											\n				\n			\n\n		\n					\n				Kosten:\n				 €10\,00 \n			\n		\n		\n		Evenement Categorie: kinderyoga\n		\n		\n			\n\n	\n\n	\n					Organisator			\n	\n					\n				\n					Kinderyoga Josje				\n			\n							\n					\n						Telefoon					\n					\n						+31 63 84 05 602					\n				\n								\n					\n						E-mail					\n					\n						contact@kinderyogajosje.nl					\n				\n					\n\n\n	\n\n\n\n\n\n\n\n	\n		\n\n	\n\n\n\n\n	\n\n\n	\n		\n			\n				\n					\n						\n	\n	\n\n						\n							Toevoegen aan kalender						\n						\n	\n\n					\n					\n						\n															\n									\n										Google Calendar									\n								\n															\n									\n										iCalendar									\n								\n															\n									\n										Outlook 365									\n								\n															\n									\n										Outlook Live
URL:https://kinderyogajosje.nl/yogalessen/aanmelden-ouder-kindyogales/
LOCATION:Buurtcentrum Terwijde\, Operettelaan 629\, Utrecht\, 3542 BR\, Netherlands
CATEGORIES:Ouder- & kindyoga
ORGANIZER;CN="Kinderyoga Josje":MAILTO:contact@kinderyogajosje.nl
END:VEVENT
END:VCALENDAR