BEGIN:VCALENDAR
VERSION:2.0
PRODID:-//Kinderyoga Josje - ECPv6.15.20//NONSGML v1.0//EN
CALSCALE:GREGORIAN
METHOD:PUBLISH
X-WR-CALNAME:Kinderyoga Josje
X-ORIGINAL-URL:https://kinderyogajosje.nl
X-WR-CALDESC:Evenementen voor Kinderyoga Josje
REFRESH-INTERVAL;VALUE=DURATION:PT1H
X-Robots-Tag:noindex
X-PUBLISHED-TTL:PT1H
BEGIN:VTIMEZONE
TZID:Europe/Amsterdam
BEGIN:DAYLIGHT
TZOFFSETFROM:+0100
TZOFFSETTO:+0200
TZNAME:CEST
DTSTART:20250330T010000
END:DAYLIGHT
BEGIN:STANDARD
TZOFFSETFROM:+0200
TZOFFSETTO:+0100
TZNAME:CET
DTSTART:20251026T010000
END:STANDARD
BEGIN:DAYLIGHT
TZOFFSETFROM:+0100
TZOFFSETTO:+0200
TZNAME:CEST
DTSTART:20260329T010000
END:DAYLIGHT
BEGIN:STANDARD
TZOFFSETFROM:+0200
TZOFFSETTO:+0100
TZNAME:CET
DTSTART:20261025T010000
END:STANDARD
BEGIN:DAYLIGHT
TZOFFSETFROM:+0100
TZOFFSETTO:+0200
TZNAME:CEST
DTSTART:20270328T010000
END:DAYLIGHT
BEGIN:STANDARD
TZOFFSETFROM:+0200
TZOFFSETTO:+0100
TZNAME:CET
DTSTART:20271031T010000
END:STANDARD
END:VTIMEZONE
BEGIN:VEVENT
DTSTART;TZID=Europe/Amsterdam:20260409T083500
DTEND;TZID=Europe/Amsterdam:20260409T092500
DTSTAMP:20260422T025210
CREATED:20260326T154428Z
LAST-MODIFIED:20260408T150429Z
UID:995-1775723700-1775726700@kinderyogajosje.nl
SUMMARY:Ouder- & peuteryogales 9 april
DESCRIPTION:Aanmelden ouder- & peuteryogales\n\n\n\n\n\nDeze les is voor kinderen vanaf 2 jaar t/m 4 jaar met een volwassene. \n\n\n\nBegin je donderdagochtend met een moment vol aandacht en plezier samen.  Tijdens een les waarbij een samen met je kind ontspannen een yogamat deelt. Er wordt spelenderwijs gewerkt aan spieren\, evenwicht\, ademhaling\, concentratie en alle zintuigen worden aangesproken. De les is altijd opgebouwd rond een thema\, boek of verhaal. De ene keer zijn we in het kabouterbos en de andere keer staat de lente centraal.Yogamaten zijn aanwezig en zorg dat je kleren draagt waar je makkelijk in kan bewegen. \n\n\n\nAfmelden kan tot 17:00 uur de dag voor aanvang. Daarna geld er een betaal verplichting.
URL:https://kinderyogajosje.nl/yogalessen/ouder-peuteryogales-9-april/
CATEGORIES:Ouder- & peuteryoga
ORGANIZER;CN="Kinderyoga Josje":MAILTO:contact@kinderyogajosje.nl
END:VEVENT
BEGIN:VEVENT
DTSTART;TZID=Europe/Amsterdam:20260416T083500
DTEND;TZID=Europe/Amsterdam:20260416T092500
DTSTAMP:20260422T025210
CREATED:20260326T154652Z
LAST-MODIFIED:20260415T155013Z
UID:998-1776328500-1776331500@kinderyogajosje.nl
SUMMARY:Ouder- & peuteryogales 16 april
DESCRIPTION:Aanmelden ouder- & peuteryogales\n\n\n\n\n\nDeze les is voor kinderen vanaf 2 jaar t/m 4 jaar met een volwassene. \n\n\n\nBegin je donderdagochtend met een moment vol aandacht en plezier samen.  Tijdens een les waarbij een samen met je kind ontspannen een yogamat deelt. Er wordt spelenderwijs gewerkt aan spieren\, evenwicht\, ademhaling\, concentratie en alle zintuigen worden aangesproken. De les is altijd opgebouwd rond een thema\, boek of verhaal. De ene keer zijn we in het kabouterbos en de andere keer staat de lente centraal.Yogamaten zijn aanwezig en zorg dat je kleren draagt waar je makkelijk in kan bewegen. \n\n\n\nAfmelden kan tot 17:00 uur de dag voor aanvang. Daarna geld er een betaal verplichting.
URL:https://kinderyogajosje.nl/yogalessen/ouder-peuteryogales-16-april/
CATEGORIES:Ouder- & peuteryoga
ORGANIZER;CN="Kinderyoga Josje":MAILTO:contact@kinderyogajosje.nl
END:VEVENT
BEGIN:VEVENT
DTSTART;TZID=Europe/Amsterdam:20260423T075500
DTEND;TZID=Europe/Amsterdam:20260423T082500
DTSTAMP:20260422T025210
CREATED:20260326T154917Z
LAST-MODIFIED:20260326T154918Z
UID:1001-1776930900-1776932700@kinderyogajosje.nl
SUMMARY:Ouder- & peuteryogales 23 april
DESCRIPTION:Aanmelden ouder- & peuteryogales\n\n\n\n\n\nDeze les is voor kinderen vanaf 2 jaar t/m 4 jaar met een volwassene. \n\n\n\nBegin je donderdagochtend met een moment vol aandacht en plezier samen.  Tijdens een les waarbij een samen met je kind ontspannen een yogamat deelt. Er wordt spelenderwijs gewerkt aan spieren\, evenwicht\, ademhaling\, concentratie en alle zintuigen worden aangesproken. De les is altijd opgebouwd rond een thema\, boek of verhaal. De ene keer zijn we in het kabouterbos en de andere keer staat de lente centraal.Yogamaten zijn aanwezig en zorg dat je kleren draagt waar je makkelijk in kan bewegen. \n\n\n\nAfmelden kan tot 17:00 uur de dag voor aanvang. Daarna geld er een betaal verplichting.
URL:https://kinderyogajosje.nl/yogalessen/ouder-peuteryogales-23-april/
CATEGORIES:Ouder- & peuteryoga
ORGANIZER;CN="Kinderyoga Josje":MAILTO:contact@kinderyogajosje.nl
END:VEVENT
BEGIN:VEVENT
DTSTART;TZID=Europe/Amsterdam:20260430T083500
DTEND;TZID=Europe/Amsterdam:20260430T092500
DTSTAMP:20260422T025210
CREATED:20260326T155240Z
LAST-MODIFIED:20260326T155241Z
UID:1004-1777538100-1777541100@kinderyogajosje.nl
SUMMARY:Ouder- & peuteryogales 30 april
DESCRIPTION:Aanmelden ouder- & peuteryogales\n\n\n\n\n\nDeze les is voor kinderen vanaf 2 jaar t/m 4 jaar met een volwassene. \n\n\n\nBegin je donderdagochtend met een moment vol aandacht en plezier samen.  Tijdens een les waarbij een samen met je kind ontspannen een yogamat deelt. Er wordt spelenderwijs gewerkt aan spieren\, evenwicht\, ademhaling\, concentratie en alle zintuigen worden aangesproken. De les is altijd opgebouwd rond een thema\, boek of verhaal. De ene keer zijn we in het kabouterbos en de andere keer staat de lente centraal.Yogamaten zijn aanwezig en zorg dat je kleren draagt waar je makkelijk in kan bewegen. \n\n\n\nAfmelden kan tot 17:00 uur de dag voor aanvang. Daarna geld er een betaal verplichting.
URL:https://kinderyogajosje.nl/yogalessen/ouder-peuteryogales-30-april/
CATEGORIES:Ouder- & peuteryoga
ORGANIZER;CN="Kinderyoga Josje":MAILTO:contact@kinderyogajosje.nl
END:VEVENT
END:VCALENDAR