BEGIN:VCALENDAR
VERSION:2.0
PRODID:-//Kinderyoga Josje - ECPv6.15.20//NONSGML v1.0//EN
CALSCALE:GREGORIAN
METHOD:PUBLISH
X-ORIGINAL-URL:https://kinderyogajosje.nl
X-WR-CALDESC:Evenementen voor Kinderyoga Josje
REFRESH-INTERVAL;VALUE=DURATION:PT1H
X-Robots-Tag:noindex
X-PUBLISHED-TTL:PT1H
BEGIN:VTIMEZONE
TZID:Europe/Amsterdam
BEGIN:DAYLIGHT
TZOFFSETFROM:+0100
TZOFFSETTO:+0200
TZNAME:CEST
DTSTART:20250330T010000
END:DAYLIGHT
BEGIN:STANDARD
TZOFFSETFROM:+0200
TZOFFSETTO:+0100
TZNAME:CET
DTSTART:20251026T010000
END:STANDARD
BEGIN:DAYLIGHT
TZOFFSETFROM:+0100
TZOFFSETTO:+0200
TZNAME:CEST
DTSTART:20260329T010000
END:DAYLIGHT
BEGIN:STANDARD
TZOFFSETFROM:+0200
TZOFFSETTO:+0100
TZNAME:CET
DTSTART:20261025T010000
END:STANDARD
BEGIN:DAYLIGHT
TZOFFSETFROM:+0100
TZOFFSETTO:+0200
TZNAME:CEST
DTSTART:20270328T010000
END:DAYLIGHT
BEGIN:STANDARD
TZOFFSETFROM:+0200
TZOFFSETTO:+0100
TZNAME:CET
DTSTART:20271031T010000
END:STANDARD
END:VTIMEZONE
BEGIN:VEVENT
DTSTART;TZID=Europe/Amsterdam:20260315T100000
DTEND;TZID=Europe/Amsterdam:20260315T105000
DTSTAMP:20260424T105518
CREATED:20260219T132039Z
LAST-MODIFIED:20260220T132312Z
UID:878-1773568800-1773571800@kinderyogajosje.nl
SUMMARY:Ouder- & kindyoga 15 maart
DESCRIPTION:Aanmelden ouder- & kindyogales\n\n\n\n\n\nDeze les is voor kinderen vanaf 2 jaar t/m 7 jaar met een volwassenen. \n\n\n\nBegin je zondagochtend met een moment vol aandacht en plezier samen. Tijdens een les waarbij een samen met je kind ontspannen een yogamat deelt. Er wordt spelenderwijs gewerkt aan spieren\, evenwicht\, ademhaling\, concentratie en alle zintuigen worden aangesproken. De les is altijd opgebouwd rond een thema\, boek of verhaal. De ene keer zijn we in het kabouterbos en de andere keer staat de lente centraal.Yogamaten zijn aanwezig en zorg dat je kleren draagt waar je makkelijk in kan bewegen.  \n\n\n\nAfmelden kan tot 17:00 uur de dag voor aanvang. Daarna geld er een betaal verplichting.
URL:https://kinderyogajosje.nl/yogalessen/ouder-kindyoga-15-maart/
CATEGORIES:Ouder- & kindyoga
ORGANIZER;CN="Kinderyoga Josje":MAILTO:contact@kinderyogajosje.nl
END:VEVENT
BEGIN:VEVENT
DTSTART;TZID=Europe/Amsterdam:20260319T083000
DTEND;TZID=Europe/Amsterdam:20260319T093000
DTSTAMP:20260424T105518
CREATED:20260219T132757Z
LAST-MODIFIED:20260318T155233Z
UID:889-1773909000-1773912600@kinderyogajosje.nl
SUMMARY:Ouder- & peuteryoga 19 maart
DESCRIPTION:Aanmelden ouder- & peuteryogales\n\n\n\n\n\nDeze les is voor kinderen vanaf 2 jaar t/m 4 jaar met een volwassene. \n\n\n\nBegin je donderdagochtend met een moment vol aandacht en plezier samen. Tijdens een les waarbij je samen met je kind ontspannen een yogamat deelt. Er wordt spelenderwijs gewerkt aan spieren\, evenwicht\, ademhaling\, concentratie en alle zintuigen worden aangesproken.
URL:https://kinderyogajosje.nl/yogalessen/ouder-peuteryoga-19-maart/
CATEGORIES:Ouder- & kindyoga
ORGANIZER;CN="Kinderyoga Josje":MAILTO:contact@kinderyogajosje.nl
END:VEVENT
BEGIN:VEVENT
DTSTART;TZID=Europe/Amsterdam:20260322T100000
DTEND;TZID=Europe/Amsterdam:20260322T105000
DTSTAMP:20260424T105518
CREATED:20260219T133057Z
LAST-MODIFIED:20260321T160153Z
UID:892-1774173600-1774176600@kinderyogajosje.nl
SUMMARY:Ouder- & peuteryoga 22 maart
DESCRIPTION:Aanmelden ouder- & peuteryogales\n\n\n\n\n\nDeze les is voor kinderen vanaf 2 jaar t/m 5 jaar met een volwassenen. \n\n\n\nBegin je zondagochtend met een moment vol aandacht en plezier samen. Tijdens een les waarbij een samen met je kind ontspannen een yogamat deelt. Er wordt spelenderwijs gewerkt aan spieren\, evenwicht\, ademhaling\, concentratie en alle zintuigen worden aangesproken. De les is altijd opgebouwd rond een thema\, boek of verhaal. De ene keer zijn we in het kabouterbos en de andere keer staat de lente centraal.Yogamaten zijn aanwezig en zorg dat je kleren draagt waar je makkelijk in kan bewegen.  \n\n\n\nAfmelden kan tot 17:00 uur de dag voor aanvang. Daarna geld er een betaal verplichting.
URL:https://kinderyogajosje.nl/yogalessen/ouder-peuteryoga-22-maart/
CATEGORIES:Ouder- & kindyoga
ORGANIZER;CN="Kinderyoga Josje":MAILTO:contact@kinderyogajosje.nl
END:VEVENT
BEGIN:VEVENT
DTSTART;TZID=Europe/Amsterdam:20260326T083000
DTEND;TZID=Europe/Amsterdam:20260326T093000
DTSTAMP:20260424T105518
CREATED:20260219T134027Z
LAST-MODIFIED:20260325T202338Z
UID:902-1774513800-1774517400@kinderyogajosje.nl
SUMMARY:Ouder- & kindyoga 26 maart
DESCRIPTION:Aanmelden ouder- & peuteryogales\n\n\n\n\n\nDeze les is voor kinderen vanaf 2 jaar t/m 4 jaar met een volwassene. \n\n\n\nBegin je donderdagochtend met een moment vol aandacht en plezier samen.  Tijdens een les waarbij een samen met je kind ontspannen een yogamat deelt. Er wordt spelenderwijs gewerkt aan spieren\, evenwicht\, ademhaling\, concentratie en alle zintuigen worden aangesproken. De les is altijd opgebouwd rond een thema\, boek of verhaal. De ene keer zijn we in het kabouterbos en de andere keer staat de lente centraal.Yogamaten zijn aanwezig en zorg dat je kleren draagt waar je makkelijk in kan bewegen. \n\n\n\nAfmelden kan tot 17:00 uur de dag voor aanvang. Daarna geld er een betaal verplichting.
URL:https://kinderyogajosje.nl/yogalessen/ouder-kindyoga-26-maart/
CATEGORIES:Ouder- & kindyoga
ORGANIZER;CN="Kinderyoga Josje":MAILTO:contact@kinderyogajosje.nl
END:VEVENT
BEGIN:VEVENT
DTSTART;TZID=Europe/Amsterdam:20260412T100000
DTEND;TZID=Europe/Amsterdam:20260412T105000
DTSTAMP:20260424T105518
CREATED:20260326T151625Z
LAST-MODIFIED:20260326T152055Z
UID:963-1775988000-1775991000@kinderyogajosje.nl
SUMMARY:Ouder- & kindyogales 12 april
DESCRIPTION:Aanmelden ouder- & kindyogales\n\n\n\n\n\nDeze les is voor kinderen vanaf 2 jaar t/m 7 jaar met een volwassenen. \n\n\n\nBegin je zondagochtend met een moment vol aandacht en plezier samen. Tijdens een les waarbij een samen met je kind ontspannen een yogamat deelt. Er wordt spelenderwijs gewerkt aan spieren\, evenwicht\, ademhaling\, concentratie en alle zintuigen worden aangesproken. De les is altijd opgebouwd rond een thema\, boek of verhaal. De ene keer zijn we in het kabouterbos en de andere keer staat de lente centraal.Yogamaten zijn aanwezig en zorg dat je kleren draagt waar je makkelijk in kan bewegen.  \n\n\n\nAfmelden kan tot 17:00 uur de dag voor aanvang. Daarna geld er een betaal verplichting.
URL:https://kinderyogajosje.nl/yogalessen/ouder-kindyogales-12-april/
CATEGORIES:Ouder- & kindyoga
ORGANIZER;CN="Kinderyoga Josje":MAILTO:contact@kinderyogajosje.nl
END:VEVENT
BEGIN:VEVENT
DTSTART;TZID=Europe/Amsterdam:20260419T100000
DTEND;TZID=Europe/Amsterdam:20260419T105000
DTSTAMP:20260424T105518
CREATED:20260326T152009Z
LAST-MODIFIED:20260418T151219Z
UID:967-1776592800-1776595800@kinderyogajosje.nl
SUMMARY:Ouder- & kindyogales 19 april
DESCRIPTION:Aanmelden ouder- & kindyogales\n\n\n\n\n\nDeze les is voor kinderen vanaf 2 jaar t/m 7 jaar met een volwassenen. \n\n\n\nBegin je zondagochtend met een moment vol aandacht en plezier samen. Tijdens een les waarbij een samen met je kind ontspannen een yogamat deelt. Er wordt spelenderwijs gewerkt aan spieren\, evenwicht\, ademhaling\, concentratie en alle zintuigen worden aangesproken. De les is altijd opgebouwd rond een thema\, boek of verhaal. De ene keer zijn we in het kabouterbos en de andere keer staat de lente centraal.Yogamaten zijn aanwezig en zorg dat je kleren draagt waar je makkelijk in kan bewegen.  \n\n\n\nAfmelden kan tot 17:00 uur de dag voor aanvang. Daarna geld er een betaal verplichting.
URL:https://kinderyogajosje.nl/yogalessen/ouder-kindyogales-19-april/
CATEGORIES:Ouder- & kindyoga
ORGANIZER;CN="Kinderyoga Josje":MAILTO:contact@kinderyogajosje.nl
END:VEVENT
BEGIN:VEVENT
DTSTART;TZID=Europe/Amsterdam:20260426T100000
DTEND;TZID=Europe/Amsterdam:20260426T105000
DTSTAMP:20260424T105518
CREATED:20260326T152331Z
LAST-MODIFIED:20260417T200031Z
UID:970-1777197600-1777200600@kinderyogajosje.nl
SUMMARY:Ouder- & kindyogales 26 april
DESCRIPTION:Aanmelden ouder- & kindyogales\n\n\n\n\n\nDeze les is voor kinderen vanaf 2 jaar t/m 7 jaar met een volwassenen. \n\n\n\nBegin je zondagochtend met een moment vol aandacht en plezier samen. Tijdens een les waarbij een samen met je kind ontspannen een yogamat deelt. Er wordt spelenderwijs gewerkt aan spieren\, evenwicht\, ademhaling\, concentratie en alle zintuigen worden aangesproken. De les is altijd opgebouwd rond een thema\, boek of verhaal. De ene keer zijn we in het kabouterbos en de andere keer staat de lente centraal.Yogamaten zijn aanwezig en zorg dat je kleren draagt waar je makkelijk in kan bewegen.  \n\n\n\nAfmelden kan tot 17:00 uur de dag voor aanvang. Daarna geld er een betaal verplichting.
URL:https://kinderyogajosje.nl/yogalessen/ouder-kindyogales-26-april/
CATEGORIES:Ouder- & kindyoga
ORGANIZER;CN="Kinderyoga Josje":MAILTO:contact@kinderyogajosje.nl
END:VEVENT
BEGIN:VEVENT
DTSTART;TZID=Europe/Amsterdam:20260503T100000
DTEND;TZID=Europe/Amsterdam:20260503T105000
DTSTAMP:20260424T105518
CREATED:20260423T124618Z
LAST-MODIFIED:20260423T132320Z
UID:1027-1777802400-1777805400@kinderyogajosje.nl
SUMMARY:Ouder- & kindyogales 3 mei
DESCRIPTION:Aanmelden kleuteryogales\n\n\n\n\n\nDeze les is voor kinderen van 3 t/m 6 jaar.  \n\n\n\nSamen met de yogabeer ga je op avontuur. Je wisselt inspanning en ontspanning met elkaar af in een les die opgebouwd is rond een thema\, boek of verhaal. De ene keer zijn we in het kabouterbos en de andere keer staat de lente centraal. Er wordt gewerkt aan spieren\, evenwicht\, ademhaling\, concentratie en alle zintuigen worden aangesproken.Yogamaten zijn aanwezig en zorg dat je kleren draagt waar je makkelijk in kan bewegen.  \n\n\n\nAfmelden kan tot 17:00 uur de dag voor aanvang. Daarna geld er een betaal verplichting.
URL:https://kinderyogajosje.nl/yogalessen/ouder-kindyogales-3-mei/
CATEGORIES:kleuteryoga,Ouder- & kindyoga
ORGANIZER;CN="Kinderyoga Josje":MAILTO:contact@kinderyogajosje.nl
END:VEVENT
BEGIN:VEVENT
DTSTART;TZID=Europe/Amsterdam:20260510T100000
DTEND;TZID=Europe/Amsterdam:20260510T105000
DTSTAMP:20260424T105518
CREATED:20260423T130326Z
LAST-MODIFIED:20260423T131104Z
UID:1036-1778407200-1778410200@kinderyogajosje.nl
SUMMARY:Moederdagyoga 2 t/m 6 jaar
DESCRIPTION:Aanmelden Moederdagyoga 💛\n\n\n\n\n\nDeze les is voor kinderen vanaf 2 jaar t/m 6 jaar met hun moeder. \n\n\n\nVier Moederdag op een bijzondere manier.Gun je moeder/ jezelf en je kind een liefdevol moment samen tijdens deze yogales.Een les vol aandacht\, plezier en verbinding\, waarin jullie samen bewegen\, ontspannen en echt even tijd voor elkaar hebben.Alles staat in het teken van Moederdag – een cadeautje om nooit te vergeten. \n\n\n\nYogamaten zijn aanwezig en zorg dat je kleren draagt waar je makkelijk in kan bewegen. \n\n\n\nAfmelden kan tot 17:00 uur de dag voor aanvang. Daarna geld er een betaal verplichting.
URL:https://kinderyogajosje.nl/yogalessen/moederdagyoga-2-t-m-6-jaar/
CATEGORIES:kleuteryoga,Ouder- & kindyoga
ORGANIZER;CN="Kinderyoga Josje":MAILTO:contact@kinderyogajosje.nl
END:VEVENT
BEGIN:VEVENT
DTSTART;TZID=Europe/Amsterdam:20260524T100000
DTEND;TZID=Europe/Amsterdam:20260524T105000
DTSTAMP:20260424T105518
CREATED:20260423T131417Z
LAST-MODIFIED:20260423T132119Z
UID:1046-1779616800-1779619800@kinderyogajosje.nl
SUMMARY:Ouder- & kindyoga 24 mei
DESCRIPTION:Aanmelden ouder- & kindyogales\n\n\n\n\n\nDeze les is voor kinderen vanaf 2 jaar t/m 7 jaar met een volwassenen. \n\n\n\nBegin je zondagochtend met een moment vol aandacht en plezier samen. Tijdens een les waarbij een samen met je kind ontspannen een yogamat deelt. Er wordt spelenderwijs gewerkt aan spieren\, evenwicht\, ademhaling\, concentratie en alle zintuigen worden aangesproken. De les is altijd opgebouwd rond een thema\, boek of verhaal. De ene keer zijn we in het kabouterbos en de andere keer staat de lente centraal.Yogamaten zijn aanwezig en zorg dat je kleren draagt waar je makkelijk in kan bewegen.  \n\n\n\nAfmelden kan tot 17:00 uur de dag voor aanvang. Daarna geld er een betaal verplichting.
URL:https://kinderyogajosje.nl/yogalessen/ouder-kindyoga-24-mei/
CATEGORIES:kleuteryoga,Ouder- & kindyoga
ORGANIZER;CN="Kinderyoga Josje":MAILTO:contact@kinderyogajosje.nl
END:VEVENT
BEGIN:VEVENT
DTSTART;TZID=Europe/Amsterdam:20260607T100000
DTEND;TZID=Europe/Amsterdam:20260607T105000
DTSTAMP:20260424T105518
CREATED:20260423T132812Z
LAST-MODIFIED:20260423T132813Z
UID:1060-1780826400-1780829400@kinderyogajosje.nl
SUMMARY:Ouder- &kinderyoga 7 juni
DESCRIPTION:Aanmelden ouder- & kindyogales\n\n\n\n\n\nDeze les is voor kinderen vanaf 2 jaar t/m 7 jaar met een volwassenen. \n\n\n\nBegin je zondagochtend met een moment vol aandacht en plezier samen. Tijdens een les waarbij een samen met je kind ontspannen een yogamat deelt. Er wordt spelenderwijs gewerkt aan spieren\, evenwicht\, ademhaling\, concentratie en alle zintuigen worden aangesproken. De les is altijd opgebouwd rond een thema\, boek of verhaal. De ene keer zijn we in het kabouterbos en de andere keer staat de lente centraal.Yogamaten zijn aanwezig en zorg dat je kleren draagt waar je makkelijk in kan bewegen.  \n\n\n\nAfmelden kan tot 17:00 uur de dag voor aanvang. Daarna geld er een betaal verplichting.
URL:https://kinderyogajosje.nl/yogalessen/ouder-kinderyoga-7-juni/
CATEGORIES:kleuteryoga,Ouder- & kindyoga
ORGANIZER;CN="Kinderyoga Josje":MAILTO:contact@kinderyogajosje.nl
END:VEVENT
BEGIN:VEVENT
DTSTART;TZID=Europe/Amsterdam:20260614T100000
DTEND;TZID=Europe/Amsterdam:20260614T105000
DTSTAMP:20260424T105518
CREATED:20260423T133318Z
LAST-MODIFIED:20260423T133319Z
UID:1066-1781431200-1781434200@kinderyogajosje.nl
SUMMARY:Ouder- & kindyoga 14 juni
DESCRIPTION:Aanmelden ouder- & kindyogales\n\n\n\n\n\nDeze les is voor kinderen vanaf 2 jaar t/m 7 jaar met een volwassenen. \n\n\n\nBegin je zondagochtend met een moment vol aandacht en plezier samen. Tijdens een les waarbij een samen met je kind ontspannen een yogamat deelt. Er wordt spelenderwijs gewerkt aan spieren\, evenwicht\, ademhaling\, concentratie en alle zintuigen worden aangesproken. De les is altijd opgebouwd rond een thema\, boek of verhaal. De ene keer zijn we in het kabouterbos en de andere keer staat de lente centraal.Yogamaten zijn aanwezig en zorg dat je kleren draagt waar je makkelijk in kan bewegen.  \n\n\n\nAfmelden kan tot 17:00 uur de dag voor aanvang. Daarna geld er een betaal verplichting.
URL:https://kinderyogajosje.nl/yogalessen/ouder-kindyoga-14-juni/
CATEGORIES:kleuteryoga,Ouder- & kindyoga
ORGANIZER;CN="Kinderyoga Josje":MAILTO:contact@kinderyogajosje.nl
END:VEVENT
END:VCALENDAR