BEGIN:VCALENDAR
VERSION:2.0
PRODID:-//Kinderyoga Josje - ECPv6.15.20//NONSGML v1.0//EN
CALSCALE:GREGORIAN
METHOD:PUBLISH
X-ORIGINAL-URL:https://kinderyogajosje.nl
X-WR-CALDESC:Evenementen voor Kinderyoga Josje
REFRESH-INTERVAL;VALUE=DURATION:PT1H
X-Robots-Tag:noindex
X-PUBLISHED-TTL:PT1H
BEGIN:VTIMEZONE
TZID:Europe/Amsterdam
BEGIN:DAYLIGHT
TZOFFSETFROM:+0100
TZOFFSETTO:+0200
TZNAME:CEST
DTSTART:20250330T010000
END:DAYLIGHT
BEGIN:STANDARD
TZOFFSETFROM:+0200
TZOFFSETTO:+0100
TZNAME:CET
DTSTART:20251026T010000
END:STANDARD
BEGIN:DAYLIGHT
TZOFFSETFROM:+0100
TZOFFSETTO:+0200
TZNAME:CEST
DTSTART:20260329T010000
END:DAYLIGHT
BEGIN:STANDARD
TZOFFSETFROM:+0200
TZOFFSETTO:+0100
TZNAME:CET
DTSTART:20261025T010000
END:STANDARD
BEGIN:DAYLIGHT
TZOFFSETFROM:+0100
TZOFFSETTO:+0200
TZNAME:CEST
DTSTART:20270328T010000
END:DAYLIGHT
BEGIN:STANDARD
TZOFFSETFROM:+0200
TZOFFSETTO:+0100
TZNAME:CET
DTSTART:20271031T010000
END:STANDARD
END:VTIMEZONE
BEGIN:VEVENT
DTSTART;TZID=Europe/Amsterdam:20260208T110000
DTEND;TZID=Europe/Amsterdam:20260208T115000
DTSTAMP:20260424T151547
CREATED:20260115T122115Z
LAST-MODIFIED:20260201T171957Z
UID:706-1770548400-1770551400@kinderyogajosje.nl
SUMMARY:Kinderyogales 8 februari
DESCRIPTION:Aanmelden kinderyogales\n\n\n\n\n\nEen yogales voor kinderen van 7 t/m 10 jaar. \n\n\n\nTijdens de les zal er aandacht zijn voor inspanning en ontspanning. Je leert naar je lichaam en spieren te luisteren\, zodat je weet wat je fijn vindt en wat je nodig hebt. Ook maakt het je lichaam sterk en soepel. Daarnaast hebben we aandacht voor de ademhaling door middel van spelletjes en masseren we elkaar over de kleding heen.  \n\n\n\nIn iedere les zit ook een samenspel verwerkt. De les is altijd opgebouwd rond een thema\, denk daarbij aan vriendschap of zelfvertrouwen. De ene keer gaan we naar de woestijn en de andere keer hebben we het over sterrenbeelden.Yogamaten zijn aanwezig en zorg dat je kleren draagt waar je makkelijk in kan bewegen.  \n\n\n\nAfmelden kan tot 17:00 uur de dag voor aanvang. Daarna geld er een betaal verplichting.
URL:https://kinderyogajosje.nl/yogalessen/kinderyogales-8-februari/
CATEGORIES:kinderyoga
ORGANIZER;CN="Kinderyoga Josje":MAILTO:contact@kinderyogajosje.nl
END:VEVENT
BEGIN:VEVENT
DTSTART;TZID=Europe/Amsterdam:20260222T110000
DTEND;TZID=Europe/Amsterdam:20260222T115000
DTSTAMP:20260424T151547
CREATED:20260115T122451Z
LAST-MODIFIED:20260201T171354Z
UID:712-1771758000-1771761000@kinderyogajosje.nl
SUMMARY:Kinderyoga 22 februari
DESCRIPTION:Aanmelden kinderyogales\n\n\n\n\n\nEen yogales voor kinderen van 7 t/m 10 jaar. \n\n\n\nTijdens de les zal er aandacht zijn voor inspanning en ontspanning. Je leert naar je lichaam en spieren te luisteren\, zodat je weet wat je fijn vindt en wat je nodig hebt. Ook maakt het je lichaam sterk en soepel. Daarnaast hebben we aandacht voor de ademhaling door middel van spelletjes en masseren we elkaar over de kleding heen.  \n\n\n\nIn iedere les zit ook een samenspel verwerkt. De les is altijd opgebouwd rond een thema\, denk daarbij aan vriendschap of zelfvertrouwen. De ene keer gaan we naar de woestijn en de andere keer hebben we het over sterrenbeelden.Yogamaten zijn aanwezig en zorg dat je kleren draagt waar je makkelijk in kan bewegen.  \n\n\n\nAfmelden kan tot 17:00 uur de dag voor aanvang. Daarna geld er een betaal verplichting.
URL:https://kinderyogajosje.nl/yogalessen/kinderyoga-22-februari/
CATEGORIES:kinderyoga
ORGANIZER;CN="Kinderyoga Josje":MAILTO:contact@kinderyogajosje.nl
END:VEVENT
BEGIN:VEVENT
DTSTART;TZID=Europe/Amsterdam:20260301T110000
DTEND;TZID=Europe/Amsterdam:20260301T115000
DTSTAMP:20260424T151547
CREATED:20260219T124958Z
LAST-MODIFIED:20260219T134208Z
UID:853-1772362800-1772365800@kinderyogajosje.nl
SUMMARY:Kinderyoga 1 maart
DESCRIPTION:Aanmelden kinderyogales\n\n\n\n\n\nEen yogales voor kinderen van 7 t/m 10 jaar. \n\n\n\nTijdens de les zal er aandacht zijn voor inspanning en ontspanning. Je leert naar je lichaam en spieren te luisteren\, zodat je weet wat je fijn vindt en wat je nodig hebt. Ook maakt het je lichaam sterk en soepel. Daarnaast hebben we aandacht voor de ademhaling door middel van spelletjes en masseren we elkaar over de kleding heen.  \n\n\n\nIn iedere les zit ook een samenspel verwerkt. De les is altijd opgebouwd rond een thema\, denk daarbij aan vriendschap of zelfvertrouwen. De ene keer gaan we naar de woestijn en de andere keer hebben we het over sterrenbeelden.Yogamaten zijn aanwezig en zorg dat je kleren draagt waar je makkelijk in kan bewegen.  \n\n\n\nAfmelden kan tot 17:00 uur de dag voor aanvang. Daarna geld er een betaal verplichting.
URL:https://kinderyogajosje.nl/yogalessen/kinderyogales-1-maart/
CATEGORIES:kinderyoga
ORGANIZER;CN="Kinderyoga Josje":MAILTO:contact@kinderyogajosje.nl
END:VEVENT
BEGIN:VEVENT
DTSTART;TZID=Europe/Amsterdam:20260308T110000
DTEND;TZID=Europe/Amsterdam:20260308T115000
DTSTAMP:20260424T151547
CREATED:20260219T130253Z
LAST-MODIFIED:20260307T163134Z
UID:867-1772967600-1772970600@kinderyogajosje.nl
SUMMARY:Kinderyoga 8 maart
DESCRIPTION:Aanmelden kinderyogales\n\n\n\n\n\nEen yogales voor kinderen van 7 t/m 10 jaar. \n\n\n\nTijdens de les zal er aandacht zijn voor inspanning en ontspanning. Je leert naar je lichaam en spieren te luisteren\, zodat je weet wat je fijn vindt en wat je nodig hebt. Ook maakt het je lichaam sterk en soepel. Daarnaast hebben we aandacht voor de ademhaling door middel van spelletjes en masseren we elkaar over de kleding heen.  \n\n\n\nIn iedere les zit ook een samenspel verwerkt. De les is altijd opgebouwd rond een thema\, denk daarbij aan vriendschap of zelfvertrouwen. De ene keer gaan we naar de woestijn en de andere keer hebben we het over sterrenbeelden.Yogamaten zijn aanwezig en zorg dat je kleren draagt waar je makkelijk in kan bewegen.  \n\n\n\nAfmelden kan tot 17:00 uur de dag voor aanvang. Daarna geld er een betaal verplichting.
URL:https://kinderyogajosje.nl/yogalessen/kinderyoga-8-maart/
CATEGORIES:kinderyoga
ORGANIZER;CN="Kinderyoga Josje":MAILTO:contact@kinderyogajosje.nl
END:VEVENT
BEGIN:VEVENT
DTSTART;TZID=Europe/Amsterdam:20260315T110000
DTEND;TZID=Europe/Amsterdam:20260315T115000
DTSTAMP:20260424T151547
CREATED:20260219T132243Z
LAST-MODIFIED:20260219T132252Z
UID:881-1773572400-1773575400@kinderyogajosje.nl
SUMMARY:Kinderyoga 15 maart
DESCRIPTION:Aanmelden kinderyogales\n\n\n\n\n\nEen yogales voor kinderen van 7 t/m 10 jaar. \n\n\n\nTijdens de les zal er aandacht zijn voor inspanning en ontspanning. Je leert naar je lichaam en spieren te luisteren\, zodat je weet wat je fijn vindt en wat je nodig hebt. Ook maakt het je lichaam sterk en soepel. Daarnaast hebben we aandacht voor de ademhaling door middel van spelletjes en masseren we elkaar over de kleding heen.  \n\n\n\nIn iedere les zit ook een samenspel verwerkt. De les is altijd opgebouwd rond een thema\, denk daarbij aan vriendschap of zelfvertrouwen. De ene keer gaan we naar de woestijn en de andere keer hebben we het over sterrenbeelden.Yogamaten zijn aanwezig en zorg dat je kleren draagt waar je makkelijk in kan bewegen.  \n\n\n\nAfmelden kan tot 17:00 uur de dag voor aanvang. Daarna geld er een betaal verplichting.
URL:https://kinderyogajosje.nl/yogalessen/kinderyoga-15-maart/
CATEGORIES:kinderyoga
ORGANIZER;CN="Kinderyoga Josje":MAILTO:contact@kinderyogajosje.nl
END:VEVENT
BEGIN:VEVENT
DTSTART;TZID=Europe/Amsterdam:20260322T110000
DTEND;TZID=Europe/Amsterdam:20260322T115000
DTSTAMP:20260424T151547
CREATED:20260219T133321Z
LAST-MODIFIED:20260219T133324Z
UID:895-1774177200-1774180200@kinderyogajosje.nl
SUMMARY:Kinderyoga 22 maart
DESCRIPTION:Aanmelden kinderyogales\n\n\n\n\n\nEen yogales voor kinderen van 7 t/m 10 jaar. \n\n\n\nTijdens de les zal er aandacht zijn voor inspanning en ontspanning. Je leert naar je lichaam en spieren te luisteren\, zodat je weet wat je fijn vindt en wat je nodig hebt. Ook maakt het je lichaam sterk en soepel. Daarnaast hebben we aandacht voor de ademhaling door middel van spelletjes en masseren we elkaar over de kleding heen.  \n\n\n\nIn iedere les zit ook een samenspel verwerkt. De les is altijd opgebouwd rond een thema\, denk daarbij aan vriendschap of zelfvertrouwen. De ene keer gaan we naar de woestijn en de andere keer hebben we het over sterrenbeelden.Yogamaten zijn aanwezig en zorg dat je kleren draagt waar je makkelijk in kan bewegen.  \n\n\n\nAfmelden kan tot 17:00 uur de dag voor aanvang. Daarna geld er een betaal verplichting.
URL:https://kinderyogajosje.nl/yogalessen/kinderyoga-22-maart/
CATEGORIES:kinderyoga
ORGANIZER;CN="Kinderyoga Josje":MAILTO:contact@kinderyogajosje.nl
END:VEVENT
BEGIN:VEVENT
DTSTART;TZID=Europe/Amsterdam:20260412T110000
DTEND;TZID=Europe/Amsterdam:20260412T115000
DTSTAMP:20260424T151547
CREATED:20260326T152552Z
LAST-MODIFIED:20260326T152553Z
UID:973-1775991600-1775994600@kinderyogajosje.nl
SUMMARY:Kinderyogales 12 april
DESCRIPTION:Aanmelden kinderyogales\n\n\n\n\n\nEen yogales voor kinderen van 7 t/m 10 jaar. \n\n\n\nTijdens de les zal er aandacht zijn voor inspanning en ontspanning. Je leert naar je lichaam en spieren te luisteren\, zodat je weet wat je fijn vindt en wat je nodig hebt. Ook maakt het je lichaam sterk en soepel. Daarnaast hebben we aandacht voor de ademhaling door middel van spelletjes en masseren we elkaar over de kleding heen.  \n\n\n\nIn iedere les zit ook een samenspel verwerkt. De les is altijd opgebouwd rond een thema\, denk daarbij aan vriendschap of zelfvertrouwen. De ene keer gaan we naar de woestijn en de andere keer hebben we het over sterrenbeelden.Yogamaten zijn aanwezig en zorg dat je kleren draagt waar je makkelijk in kan bewegen.  \n\n\n\nAfmelden kan tot 17:00 uur de dag voor aanvang. Daarna geld er een betaal verplichting.
URL:https://kinderyogajosje.nl/yogalessen/kinderyogales-12-april/
CATEGORIES:kinderyoga
ORGANIZER;CN="Kinderyoga Josje":MAILTO:contact@kinderyogajosje.nl
END:VEVENT
BEGIN:VEVENT
DTSTART;TZID=Europe/Amsterdam:20260419T110000
DTEND;TZID=Europe/Amsterdam:20260419T115000
DTSTAMP:20260424T151547
CREATED:20260326T152749Z
LAST-MODIFIED:20260418T151039Z
UID:976-1776596400-1776599400@kinderyogajosje.nl
SUMMARY:Kinderyogales 19 april
DESCRIPTION:Aanmelden kinderyogales\n\n\n\n\n\nEen yogales voor kinderen van 7 t/m 10 jaar. \n\n\n\nTijdens de les zal er aandacht zijn voor inspanning en ontspanning. Je leert naar je lichaam en spieren te luisteren\, zodat je weet wat je fijn vindt en wat je nodig hebt. Ook maakt het je lichaam sterk en soepel. Daarnaast hebben we aandacht voor de ademhaling door middel van spelletjes en masseren we elkaar over de kleding heen.  \n\n\n\nIn iedere les zit ook een samenspel verwerkt. De les is altijd opgebouwd rond een thema\, denk daarbij aan vriendschap of zelfvertrouwen. De ene keer gaan we naar de woestijn en de andere keer hebben we het over sterrenbeelden.Yogamaten zijn aanwezig en zorg dat je kleren draagt waar je makkelijk in kan bewegen.  \n\n\n\nAfmelden kan tot 17:00 uur de dag voor aanvang. Daarna geld er een betaal verplichting.
URL:https://kinderyogajosje.nl/yogalessen/kinderyogales-19-april/
CATEGORIES:kinderyoga
ORGANIZER;CN="Kinderyoga Josje":MAILTO:contact@kinderyogajosje.nl
END:VEVENT
BEGIN:VEVENT
DTSTART;TZID=Europe/Amsterdam:20260426T110000
DTEND;TZID=Europe/Amsterdam:20260426T115000
DTSTAMP:20260424T151547
CREATED:20260326T153008Z
LAST-MODIFIED:20260326T153009Z
UID:979-1777201200-1777204200@kinderyogajosje.nl
SUMMARY:Kinderyogales 26 april
DESCRIPTION:Aanmelden kinderyogales\n\n\n\n\n\nEen yogales voor kinderen van 7 t/m 10 jaar. \n\n\n\nTijdens de les zal er aandacht zijn voor inspanning en ontspanning. Je leert naar je lichaam en spieren te luisteren\, zodat je weet wat je fijn vindt en wat je nodig hebt. Ook maakt het je lichaam sterk en soepel. Daarnaast hebben we aandacht voor de ademhaling door middel van spelletjes en masseren we elkaar over de kleding heen.  \n\n\n\nIn iedere les zit ook een samenspel verwerkt. De les is altijd opgebouwd rond een thema\, denk daarbij aan vriendschap of zelfvertrouwen. De ene keer gaan we naar de woestijn en de andere keer hebben we het over sterrenbeelden.Yogamaten zijn aanwezig en zorg dat je kleren draagt waar je makkelijk in kan bewegen.  \n\n\n\nAfmelden kan tot 17:00 uur de dag voor aanvang. Daarna geld er een betaal verplichting.
URL:https://kinderyogajosje.nl/yogalessen/kinderyogales-26-april/
CATEGORIES:kinderyoga
ORGANIZER;CN="Kinderyoga Josje":MAILTO:contact@kinderyogajosje.nl
END:VEVENT
BEGIN:VEVENT
DTSTART;TZID=Europe/Amsterdam:20260503T110000
DTEND;TZID=Europe/Amsterdam:20260503T115000
DTSTAMP:20260424T151547
CREATED:20260423T124858Z
LAST-MODIFIED:20260423T132303Z
UID:1030-1777806000-1777809000@kinderyogajosje.nl
SUMMARY:Kinderyoga 3 mei
DESCRIPTION:Aanmelden kinderyogales\n\n\n\n\n\nEen yogales voor kinderen van 6 t/m 10 jaar. \n\n\n\nTijdens de les zal er aandacht zijn voor inspanning en ontspanning. Je leert naar je lichaam en spieren te luisteren\, zodat je weet wat je fijn vindt en wat je nodig hebt. Ook maakt het je lichaam sterk en soepel. Daarnaast hebben we aandacht voor de ademhaling door middel van spelletjes en masseren we elkaar over de kleding heen.  \n\n\n\nIn iedere les zit ook een samenspel verwerkt. De les is altijd opgebouwd rond een thema\, denk daarbij aan vriendschap of zelfvertrouwen. De ene keer gaan we naar de woestijn en de andere keer hebben we het over sterrenbeelden.Yogamaten zijn aanwezig en zorg dat je kleren draagt waar je makkelijk in kan bewegen.  \n\n\n\nAfmelden kan tot 17:00 uur de dag voor aanvang. Daarna geld er een betaal verplichting.
URL:https://kinderyogajosje.nl/yogalessen/kinderyoga-3-mei/
CATEGORIES:kinderyoga,kleuteryoga
ORGANIZER;CN="Kinderyoga Josje":MAILTO:contact@kinderyogajosje.nl
END:VEVENT
BEGIN:VEVENT
DTSTART;TZID=Europe/Amsterdam:20260510T110000
DTEND;TZID=Europe/Amsterdam:20260510T115000
DTSTAMP:20260424T151547
CREATED:20260423T130953Z
LAST-MODIFIED:20260423T131002Z
UID:1040-1778410800-1778413800@kinderyogajosje.nl
SUMMARY:Moederdagyoga 7 t/m 11 jaar
DESCRIPTION:Aanmelden moederdagyoga 💛\n\n\n\n\n\nEen yogales voor kinderen van 7 t/m 11 jaar. \n\n\n\nVier Moederdag op een bijzondere manier.Gun je moeder/ jezelf en je kind een liefdevol moment samen tijdens deze yogales.Een les vol aandacht\, plezier en verbinding\, waarin jullie samen bewegen\, ontspannen en echt even tijd voor elkaar hebben.Alles staat in het teken van Moederdag – een cadeautje om nooit te vergeten.Yogamaten zijn aanwezig en zorg dat je kleren draagt waar je makkelijk in kan bewegen. \n\n\n\nAfmelden kan tot 17:00 uur de dag voor aanvang. Daarna geld er een betaal verplichting.
URL:https://kinderyogajosje.nl/yogalessen/moederdagyoga-7-t-m-11-jaar/
CATEGORIES:kinderyoga
ORGANIZER;CN="Kinderyoga Josje":MAILTO:contact@kinderyogajosje.nl
END:VEVENT
BEGIN:VEVENT
DTSTART;TZID=Europe/Amsterdam:20260524T110000
DTEND;TZID=Europe/Amsterdam:20260524T115000
DTSTAMP:20260424T151547
CREATED:20260423T131617Z
LAST-MODIFIED:20260423T132048Z
UID:1049-1779620400-1779623400@kinderyogajosje.nl
SUMMARY:Kinderyoga 24 mei
DESCRIPTION:Aanmelden kinderyogales\n\n\n\n\n\nEen yogales voor kinderen van 6 t/m 10 jaar. \n\n\n\nTijdens de les zal er aandacht zijn voor inspanning en ontspanning. Je leert naar je lichaam en spieren te luisteren\, zodat je weet wat je fijn vindt en wat je nodig hebt. Ook maakt het je lichaam sterk en soepel. Daarnaast hebben we aandacht voor de ademhaling door middel van spelletjes en masseren we elkaar over de kleding heen.  \n\n\n\nIn iedere les zit ook een samenspel verwerkt. De les is altijd opgebouwd rond een thema\, denk daarbij aan vriendschap of zelfvertrouwen. De ene keer gaan we naar de woestijn en de andere keer hebben we het over sterrenbeelden.Yogamaten zijn aanwezig en zorg dat je kleren draagt waar je makkelijk in kan bewegen.  \n\n\n\nAfmelden kan tot 17:00 uur de dag voor aanvang. Daarna geld er een betaal verplichting.
URL:https://kinderyogajosje.nl/yogalessen/kinderyoga-24-mei/
CATEGORIES:kinderyoga,kleuteryoga
ORGANIZER;CN="Kinderyoga Josje":MAILTO:contact@kinderyogajosje.nl
END:VEVENT
BEGIN:VEVENT
DTSTART;TZID=Europe/Amsterdam:20260531T110000
DTEND;TZID=Europe/Amsterdam:20260531T115000
DTSTAMP:20260424T151547
CREATED:20260423T132530Z
LAST-MODIFIED:20260423T132833Z
UID:1057-1780225200-1780228200@kinderyogajosje.nl
SUMMARY:Kinderyoga 31 mei
DESCRIPTION:Aanmelden kinderyogales\n\n\n\n\n\nEen yogales voor kinderen van 6 t/m 10 jaar. \n\n\n\nTijdens de les zal er aandacht zijn voor inspanning en ontspanning. Je leert naar je lichaam en spieren te luisteren\, zodat je weet wat je fijn vindt en wat je nodig hebt. Ook maakt het je lichaam sterk en soepel. Daarnaast hebben we aandacht voor de ademhaling door middel van spelletjes en masseren we elkaar over de kleding heen.  \n\n\n\nIn iedere les zit ook een samenspel verwerkt. De les is altijd opgebouwd rond een thema\, denk daarbij aan vriendschap of zelfvertrouwen. De ene keer gaan we naar de woestijn en de andere keer hebben we het over sterrenbeelden.Yogamaten zijn aanwezig en zorg dat je kleren draagt waar je makkelijk in kan bewegen.  \n\n\n\nAfmelden kan tot 17:00 uur de dag voor aanvang. Daarna geld er een betaal verplichting.
URL:https://kinderyogajosje.nl/yogalessen/kinderyoga-31-mei/
CATEGORIES:kinderyoga,kleuteryoga
ORGANIZER;CN="Kinderyoga Josje":MAILTO:contact@kinderyogajosje.nl
END:VEVENT
BEGIN:VEVENT
DTSTART;TZID=Europe/Amsterdam:20260607T110000
DTEND;TZID=Europe/Amsterdam:20260607T115000
DTSTAMP:20260424T151547
CREATED:20260423T133041Z
LAST-MODIFIED:20260423T133042Z
UID:1063-1780830000-1780833000@kinderyogajosje.nl
SUMMARY:Kinderyoga 7 juni
DESCRIPTION:Aanmelden kinderyogales\n\n\n\n\n\nEen yogales voor kinderen van 6 t/m 10 jaar. \n\n\n\nTijdens de les zal er aandacht zijn voor inspanning en ontspanning. Je leert naar je lichaam en spieren te luisteren\, zodat je weet wat je fijn vindt en wat je nodig hebt. Ook maakt het je lichaam sterk en soepel. Daarnaast hebben we aandacht voor de ademhaling door middel van spelletjes en masseren we elkaar over de kleding heen.  \n\n\n\nIn iedere les zit ook een samenspel verwerkt. De les is altijd opgebouwd rond een thema\, denk daarbij aan vriendschap of zelfvertrouwen. De ene keer gaan we naar de woestijn en de andere keer hebben we het over sterrenbeelden.Yogamaten zijn aanwezig en zorg dat je kleren draagt waar je makkelijk in kan bewegen.  \n\n\n\nAfmelden kan tot 17:00 uur de dag voor aanvang. Daarna geld er een betaal verplichting.
URL:https://kinderyogajosje.nl/yogalessen/kinderyoga-7-juni/
CATEGORIES:kinderyoga,kleuteryoga
ORGANIZER;CN="Kinderyoga Josje":MAILTO:contact@kinderyogajosje.nl
END:VEVENT
BEGIN:VEVENT
DTSTART;TZID=Europe/Amsterdam:20260614T110000
DTEND;TZID=Europe/Amsterdam:20260614T115000
DTSTAMP:20260424T151547
CREATED:20260423T133529Z
LAST-MODIFIED:20260423T133530Z
UID:1069-1781434800-1781437800@kinderyogajosje.nl
SUMMARY:Kinderyoga 14 juni
DESCRIPTION:Aanmelden kinderyogales\n\n\n\n\n\nEen yogales voor kinderen van 6 t/m 10 jaar. \n\n\n\nTijdens de les zal er aandacht zijn voor inspanning en ontspanning. Je leert naar je lichaam en spieren te luisteren\, zodat je weet wat je fijn vindt en wat je nodig hebt. Ook maakt het je lichaam sterk en soepel. Daarnaast hebben we aandacht voor de ademhaling door middel van spelletjes en masseren we elkaar over de kleding heen.  \n\n\n\nIn iedere les zit ook een samenspel verwerkt. De les is altijd opgebouwd rond een thema\, denk daarbij aan vriendschap of zelfvertrouwen. De ene keer gaan we naar de woestijn en de andere keer hebben we het over sterrenbeelden.Yogamaten zijn aanwezig en zorg dat je kleren draagt waar je makkelijk in kan bewegen.  \n\n\n\nAfmelden kan tot 17:00 uur de dag voor aanvang. Daarna geld er een betaal verplichting.
URL:https://kinderyogajosje.nl/yogalessen/kinderyoga-14-juni/
CATEGORIES:kinderyoga,kleuteryoga
ORGANIZER;CN="Kinderyoga Josje":MAILTO:contact@kinderyogajosje.nl
END:VEVENT
END:VCALENDAR