BEGIN:VCALENDAR
VERSION:2.0
PRODID:-//Kinderyoga Josje - ECPv6.15.20//NONSGML v1.0//EN
CALSCALE:GREGORIAN
METHOD:PUBLISH
X-WR-CALNAME:Kinderyoga Josje
X-ORIGINAL-URL:https://kinderyogajosje.nl
X-WR-CALDESC:Evenementen voor Kinderyoga Josje
REFRESH-INTERVAL;VALUE=DURATION:PT1H
X-Robots-Tag:noindex
X-PUBLISHED-TTL:PT1H
BEGIN:VTIMEZONE
TZID:Europe/Amsterdam
BEGIN:DAYLIGHT
TZOFFSETFROM:+0100
TZOFFSETTO:+0200
TZNAME:CEST
DTSTART:20250330T010000
END:DAYLIGHT
BEGIN:STANDARD
TZOFFSETFROM:+0200
TZOFFSETTO:+0100
TZNAME:CET
DTSTART:20251026T010000
END:STANDARD
BEGIN:DAYLIGHT
TZOFFSETFROM:+0100
TZOFFSETTO:+0200
TZNAME:CEST
DTSTART:20260329T010000
END:DAYLIGHT
BEGIN:STANDARD
TZOFFSETFROM:+0200
TZOFFSETTO:+0100
TZNAME:CET
DTSTART:20261025T010000
END:STANDARD
BEGIN:DAYLIGHT
TZOFFSETFROM:+0100
TZOFFSETTO:+0200
TZNAME:CEST
DTSTART:20270328T010000
END:DAYLIGHT
BEGIN:STANDARD
TZOFFSETFROM:+0200
TZOFFSETTO:+0100
TZNAME:CET
DTSTART:20271031T010000
END:STANDARD
END:VTIMEZONE
BEGIN:VEVENT
DTSTART;TZID=Europe/Amsterdam:20260111T100000
DTEND;TZID=Europe/Amsterdam:20260111T105000
DTSTAMP:20260421T214002
CREATED:20251215T091744Z
LAST-MODIFIED:20251215T092938Z
UID:529-1768125600-1768128600@kinderyogajosje.nl
SUMMARY:Ouder- & peuteryogales 11 januari
DESCRIPTION:Aanmelden ouder- & kindyogales\n\n\n\n\n\nDeze les is voor kinderen vanaf 2 jaar t/m 4 jaar met een volwassenen. \n\n\n\nBegin je zondagochtend met een moment vol aandacht en plezier samen. Tijdens een les waarbij een samen met je kind ontspannen een yogamat deelt. Er wordt spelenderwijs gewerkt aan spieren\, evenwicht\, ademhaling\, concentratie en alle zintuigen worden aangesproken. De les is altijd opgebouwd rond een thema\, boek of verhaal. De ene keer zijn we in het kabouterbos en de andere keer staat de lente centraal.Yogamaten zijn aanwezig en zorg dat je kleren draagt waar je makkelijk in kan bewegen.  \n\n\n\nAfmelden kan tot 17:00 uur de dag voor aanvang. Daarna geld er een betaal verplichting.
URL:https://kinderyogajosje.nl/yogalessen/ouder-kindyogales-11-januari/
ORGANIZER;CN="Kinderyoga Josje":MAILTO:contact@kinderyogajosje.nl
END:VEVENT
BEGIN:VEVENT
DTSTART;TZID=Europe/Amsterdam:20260111T110000
DTEND;TZID=Europe/Amsterdam:20260111T115000
DTSTAMP:20260421T214002
CREATED:20251215T102244Z
LAST-MODIFIED:20251215T102246Z
UID:593-1768129200-1768132200@kinderyogajosje.nl
SUMMARY:Kinderyogales 11 janauri
DESCRIPTION:Aanmelden kinderyogales\n\n\n\n\n\nEen yogales voor kinderen van 7 t/m 9 jaar. \n\n\n\nTijdens de les zal er aandacht zijn voor inspanning en ontspanning. Je leert naar je lichaam en spieren te luisteren\, zodat je weet wat je fijn vindt en wat je nodig hebt. Ook maakt het je lichaam sterk en soepel. Daarnaast hebben we aandacht voor de ademhaling door middel van spelletjes en masseren we elkaar over de kleding heen.  \n\n\n\nIn iedere les zit ook een samenspel verwerkt. De les is altijd opgebouwd rond een thema\, denk daarbij aan vriendschap of zelfvertrouwen. De ene keer gaan we naar de woestijn en de andere keer hebben we het over sterrenbeelden.Yogamaten zijn aanwezig en zorg dat je kleren draagt waar je makkelijk in kan bewegen.  \n\n\n\nAfmelden kan tot 17:00 uur de dag voor aanvang. Daarna geld er een betaal verplichting.
URL:https://kinderyogajosje.nl/yogalessen/kinderyogales-11-janauri/
ORGANIZER;CN="Kinderyoga Josje":MAILTO:contact@kinderyogajosje.nl
END:VEVENT
BEGIN:VEVENT
DTSTART;TZID=Europe/Amsterdam:20260111T120000
DTEND;TZID=Europe/Amsterdam:20260111T125000
DTSTAMP:20260421T214002
CREATED:20251215T094709Z
LAST-MODIFIED:20251215T094711Z
UID:551-1768132800-1768135800@kinderyogajosje.nl
SUMMARY:Kleuteryogales 11 januari
DESCRIPTION:Aanmelden kleuteryogales\n\n\n\n\n\nDeze les is voor kinderen van 3 t/m 6 jaar.  \n\n\n\nSamen met de yogabeer ga je op avontuur. Je wisselt inspanning en ontspanning met elkaar af in een les die opgebouwd is rond een thema\, boek of verhaal. De ene keer zijn we in het kabouterbos en de andere keer staat de lente centraal. Er wordt gewerkt aan spieren\, evenwicht\, ademhaling\, concentratie en alle zintuigen worden aangesproken.Yogamaten zijn aanwezig en zorg dat je kleren draagt waar je makkelijk in kan bewegen.  \n\n\n\nAfmelden kan tot 17:00 uur de dag voor aanvang. Daarna geld er een betaal verplichting.
URL:https://kinderyogajosje.nl/yogalessen/kleuteryogales-11-januari/
ORGANIZER;CN="Kinderyoga Josje":MAILTO:contact@kinderyogajosje.nl
END:VEVENT
END:VCALENDAR