BEGIN:VCALENDAR
VERSION:2.0
PRODID:-//Kinderyoga Josje - ECPv6.15.20//NONSGML v1.0//EN
CALSCALE:GREGORIAN
METHOD:PUBLISH
X-WR-CALNAME:Kinderyoga Josje
X-ORIGINAL-URL:https://kinderyogajosje.nl
X-WR-CALDESC:Evenementen voor Kinderyoga Josje
REFRESH-INTERVAL;VALUE=DURATION:PT1H
X-Robots-Tag:noindex
X-PUBLISHED-TTL:PT1H
BEGIN:VTIMEZONE
TZID:Europe/Amsterdam
BEGIN:DAYLIGHT
TZOFFSETFROM:+0100
TZOFFSETTO:+0200
TZNAME:CEST
DTSTART:20240331T010000
END:DAYLIGHT
BEGIN:STANDARD
TZOFFSETFROM:+0200
TZOFFSETTO:+0100
TZNAME:CET
DTSTART:20241027T010000
END:STANDARD
BEGIN:DAYLIGHT
TZOFFSETFROM:+0100
TZOFFSETTO:+0200
TZNAME:CEST
DTSTART:20250330T010000
END:DAYLIGHT
BEGIN:STANDARD
TZOFFSETFROM:+0200
TZOFFSETTO:+0100
TZNAME:CET
DTSTART:20251026T010000
END:STANDARD
BEGIN:DAYLIGHT
TZOFFSETFROM:+0100
TZOFFSETTO:+0200
TZNAME:CEST
DTSTART:20260329T010000
END:DAYLIGHT
BEGIN:STANDARD
TZOFFSETFROM:+0200
TZOFFSETTO:+0100
TZNAME:CET
DTSTART:20261025T010000
END:STANDARD
END:VTIMEZONE
BEGIN:VEVENT
DTSTART;TZID=Europe/Amsterdam:20251221T100000
DTEND;TZID=Europe/Amsterdam:20251221T105000
DTSTAMP:20260421T231812
CREATED:20251127T082343Z
LAST-MODIFIED:20251215T114422Z
UID:386-1766311200-1766314200@kinderyogajosje.nl
SUMMARY:Ouder- & kindyogales 21 december
DESCRIPTION:Aanmelden ouder- & kindyogales\n\n\n\n\n\nDeze les is voor kinderen vanaf 2 jaar t/m 4 jaar met een volwassenen.  \n\n\n\nBegin je zondagochtend met een moment vol aandacht en plezier samen. Tijdens een les waarbij een (groot)ouder samen met zoon/ dochter/ kleinzoon/ kleindochter/ neefje/  nichtje een yogamat deelt is er aandacht voor inspanning en ontspanning. Er wordt spelenderwijs gewerkt aan spieren\, evenwicht\, ademhaling\, concentratie en alle zintuigen worden aangesproken. De les is altijd opgebouwd rond een thema\, boek of verhaal. De ene keer zijn we in het kabouterbos en de andere keer staat de lente centraal. 
URL:https://kinderyogajosje.nl/yogalessen/ouder-kindyogales-2/
CATEGORIES:Ouder- & kindyoga
ORGANIZER;CN="Kinderyoga Josje":MAILTO:contact@kinderyogajosje.nl
END:VEVENT
BEGIN:VEVENT
DTSTART;TZID=Europe/Amsterdam:20251221T110000
DTEND;TZID=Europe/Amsterdam:20251221T115000
DTSTAMP:20260421T231812
CREATED:20251127T090332Z
LAST-MODIFIED:20251208T091931Z
UID:427-1766314800-1766317800@kinderyogajosje.nl
SUMMARY:Kinderyogales 21 december
DESCRIPTION:Aanmelden kinderyogales\n\n\n\n\n\nEen yogales voor kinderen van 7 t/m 9 jaar. \n\n\n\nTijdens de les zal er aandacht zijn voor inspanning en ontspanning. Je leert naar je lichaam en spieren te luisteren\, zodat je weet wat je fijn vindt en wat je nodig hebt. Ook maakt het je lichaam sterk en soepel. Daarnaast hebben we aandacht voor de ademhaling door middel van spelletjes en masseren we elkaar over de kleding heen.  \n\n\n\nIn iedere les zit ook een samenspel verwerkt. De les is altijd opgebouwd rond een thema\, denk daarbij aan vriendschap of zelfvertrouwen. De ene keer gaan we naar de woestijn en de andere keer hebben we het over sterrenbeelden.  \n\n\n\nJe bent van harte welkom voor een kinderyogales\, een zondagochtend vol aandacht en plezier te komen beleven. Laat je het wel even weten als je van plan bent om te komen?
URL:https://kinderyogajosje.nl/yogalessen/kinderyogales-4/
ORGANIZER;CN="Kinderyoga Josje":MAILTO:contact@kinderyogajosje.nl
END:VEVENT
BEGIN:VEVENT
DTSTART;TZID=Europe/Amsterdam:20251221T120000
DTEND;TZID=Europe/Amsterdam:20251221T125000
DTSTAMP:20260421T231812
CREATED:20251208T092217Z
LAST-MODIFIED:20251208T092218Z
UID:411-1766318400-1766321400@kinderyogajosje.nl
SUMMARY:Kleuteryogales 21 december
DESCRIPTION:Aanmelden kleuteryogales\n\n\n\n\n\nDeze les is voor kinderen van 3 t/m 6 jaar.  \n\n\n\nSamen met de yogabeer ga je op avontuur. Je wisselt inspanning en ontspanning met elkaar af in een les die opgebouwd is rond een thema\, boek of verhaal. De ene keer zijn we in het kabouterbos en de andere keer staat de lente centraal. Er wordt gewerkt aan spieren\, evenwicht\, ademhaling\, concentratie en alle zintuigen worden aangesproken.  \n\n\n\nBegin je zondagochtend vol aandacht en plezier! Ga je mee op avontuur? Laat je het wel even weten als je komt?
URL:https://kinderyogajosje.nl/yogalessen/kleuteryogales-21-december/
ORGANIZER;CN="Kinderyoga Josje":MAILTO:contact@kinderyogajosje.nl
END:VEVENT
END:VCALENDAR