BEGIN:VCALENDAR
VERSION:2.0
PRODID:-//Kinderyoga Josje - ECPv6.15.20//NONSGML v1.0//EN
CALSCALE:GREGORIAN
METHOD:PUBLISH
X-WR-CALNAME:Kinderyoga Josje
X-ORIGINAL-URL:https://kinderyogajosje.nl
X-WR-CALDESC:Evenementen voor Kinderyoga Josje
REFRESH-INTERVAL;VALUE=DURATION:PT1H
X-Robots-Tag:noindex
X-PUBLISHED-TTL:PT1H
BEGIN:VTIMEZONE
TZID:Europe/Amsterdam
BEGIN:DAYLIGHT
TZOFFSETFROM:+0100
TZOFFSETTO:+0200
TZNAME:CEST
DTSTART:20240331T010000
END:DAYLIGHT
BEGIN:STANDARD
TZOFFSETFROM:+0200
TZOFFSETTO:+0100
TZNAME:CET
DTSTART:20241027T010000
END:STANDARD
BEGIN:DAYLIGHT
TZOFFSETFROM:+0100
TZOFFSETTO:+0200
TZNAME:CEST
DTSTART:20250330T010000
END:DAYLIGHT
BEGIN:STANDARD
TZOFFSETFROM:+0200
TZOFFSETTO:+0100
TZNAME:CET
DTSTART:20251026T010000
END:STANDARD
BEGIN:DAYLIGHT
TZOFFSETFROM:+0100
TZOFFSETTO:+0200
TZNAME:CEST
DTSTART:20260329T010000
END:DAYLIGHT
BEGIN:STANDARD
TZOFFSETFROM:+0200
TZOFFSETTO:+0100
TZNAME:CET
DTSTART:20261025T010000
END:STANDARD
END:VTIMEZONE
BEGIN:VEVENT
DTSTART;TZID=Europe/Amsterdam:20251218T083000
DTEND;TZID=Europe/Amsterdam:20251218T093000
DTSTAMP:20260421T232313
CREATED:20251201T082922Z
LAST-MODIFIED:20251208T095718Z
UID:445-1766046600-1766050200@kinderyogajosje.nl
SUMMARY:Gratis ouder- peuteryogales bij StudioBloej
DESCRIPTION:Aanmelden ouder- & peuteryogales\n\n\n\n\n\nDeze les is voor kinderen vanaf 2 jaar t/m 4 jaar met een volwassene. \n\n\n\nBegin je donderdagochtend met een moment vol aandacht en plezier samen. Tijdens een les waarbij je samen met je kind ontspannen een yogamat deelt. Er wordt spelenderwijs gewerkt aan spieren\, evenwicht\, ademhaling\, concentratie en alle zintuigen worden aangesproken. Het is kerst\, dus gaan we een sfeervol kerstverhaal samen ervaren. \n\n\n\nDit is een gratis proefles! Vanaf 8 januari zal er iedere donderdag een ouder- & kindyogales plaatsvinden bij StudioBloej.
URL:https://kinderyogajosje.nl/yogalessen/gratis-ouder-kindyogales-bij-bloej/
LOCATION:StudioBloej\, Homeruslaan 59A\, Utrecht\, 3581MD\, Netherlands
ORGANIZER;CN="Kinderyoga Josje":MAILTO:contact@kinderyogajosje.nl
END:VEVENT
END:VCALENDAR